BEGIN:VCALENDAR
VERSION:2.0
PRODID:-//BioGeoSCAPES - ECPv5.16.1//NONSGML v1.0//EN
CALSCALE:GREGORIAN
METHOD:PUBLISH
X-ORIGINAL-URL:https://biogeoscapes.org
X-WR-CALDESC:Events for BioGeoSCAPES
REFRESH-INTERVAL;VALUE=DURATION:PT1H
X-Robots-Tag:noindex
X-PUBLISHED-TTL:PT1H
BEGIN:VTIMEZONE
TZID:America/Halifax
BEGIN:DAYLIGHT
TZOFFSETFROM:-0400
TZOFFSETTO:-0300
TZNAME:ADT
DTSTART:20230312T060000
END:DAYLIGHT
BEGIN:STANDARD
TZOFFSETFROM:-0300
TZOFFSETTO:-0400
TZNAME:AST
DTSTART:20231105T050000
END:STANDARD
END:VTIMEZONE
BEGIN:VEVENT
DTSTART;VALUE=DATE:20230118
DTEND;VALUE=DATE:20230119
DTSTAMP:20260424T095643
CREATED:20231025T123744Z
LAST-MODIFIED:20231025T123756Z
UID:1146-1674000000-1674086399@biogeoscapes.org
SUMMARY:The US National BioGeoSCAPES Workshop report
DESCRIPTION:The US National BioGeoSCAPES Workshop report was released in January of 2023
URL:https://biogeoscapes.org/event/the-us-national-biogeoscapes-workshop-report/
CATEGORIES:Virtual
END:VEVENT
BEGIN:VEVENT
DTSTART;VALUE=DATE:20230123
DTEND;VALUE=DATE:20230124
DTSTAMP:20260424T095643
CREATED:20230309T214045Z
LAST-MODIFIED:20230309T214045Z
UID:860-1674432000-1674518399@biogeoscapes.org
SUMMARY:The Netherlands National workshop
DESCRIPTION:The Netherlands National workshop is occurring at the end of February\, organized by Rob Middag and Susanne Wilken.
URL:https://biogeoscapes.org/event/the-netherlands-national-workshop/
END:VEVENT
BEGIN:VEVENT
DTSTART;TZID=America/Halifax:20230125T110000
DTEND;TZID=America/Halifax:20230125T130000
DTSTAMP:20260424T095643
CREATED:20231025T121805Z
LAST-MODIFIED:20231025T121805Z
UID:1134-1674644400-1674651600@biogeoscapes.org
SUMMARY:Organizing Intercalibration Efforts for BioGeoSCAPES: a Panel Discussion.
DESCRIPTION:Overview: Producing data that can be effectively compared across space and time is a critical aspect to developing an international microbial biogeochemistry collaborative program. Intercalibration activities\, involving validation of precision and accuracy and the development of intercomparison standards\, are foundational to the production of interoperable data. With BioGeoSCAPES aiming to launch mid-decade further progress must be made to ensure high quality data collection. This virtual panel will hear perspectives from a variety of communities (nucleic acids\, metabolomics\, proteomics\, rates) and encourage brainstorming through small group discussions. This panel discussion initiates the pre-work effort building towards an eventual in person BioGeoSCAPES workshop in the coming years.
URL:https://biogeoscapes.org/event/organizing-intercalibration-efforts-for-biogeoscapes-a-panel-discussion/
CATEGORIES:Virtual
END:VEVENT
END:VCALENDAR