BEGIN:VCALENDAR
VERSION:2.0
PRODID:-//BioGeoSCAPES - ECPv5.16.1//NONSGML v1.0//EN
CALSCALE:GREGORIAN
METHOD:PUBLISH
X-WR-CALNAME:BioGeoSCAPES
X-ORIGINAL-URL:https://biogeoscapes.org
X-WR-CALDESC:Events for BioGeoSCAPES
REFRESH-INTERVAL;VALUE=DURATION:PT1H
X-Robots-Tag:noindex
X-PUBLISHED-TTL:PT1H
BEGIN:VTIMEZONE
TZID:America/Halifax
BEGIN:DAYLIGHT
TZOFFSETFROM:-0400
TZOFFSETTO:-0300
TZNAME:ADT
DTSTART:20220313T060000
END:DAYLIGHT
BEGIN:STANDARD
TZOFFSETFROM:-0300
TZOFFSETTO:-0400
TZNAME:AST
DTSTART:20221106T050000
END:STANDARD
END:VTIMEZONE
BEGIN:VEVENT
DTSTART;VALUE=DATE:20221025
DTEND;VALUE=DATE:20221026
DTSTAMP:20260424T140820
CREATED:20231025T124522Z
LAST-MODIFIED:20231025T125559Z
UID:1163-1666656000-1666742399@biogeoscapes.org
SUMMARY:National Community Interest Meetings have occurred in Japan\, the UK\, Canada\, China\, and France
DESCRIPTION:National Community Interest Meetings have occurred in Japan\, the UK\, Canada\, China\, and France
URL:https://biogeoscapes.org/event/national-community-interest-meetings-have-occurred-in-japan-the-uk-canada-china-and-france/
CATEGORIES:Virtual
END:VEVENT
END:VCALENDAR