BEGIN:VCALENDAR
VERSION:2.0
PRODID:-//BioGeoSCAPES - ECPv5.16.1//NONSGML v1.0//EN
CALSCALE:GREGORIAN
METHOD:PUBLISH
X-WR-CALNAME:BioGeoSCAPES
X-ORIGINAL-URL:https://biogeoscapes.org
X-WR-CALDESC:Events for BioGeoSCAPES
REFRESH-INTERVAL;VALUE=DURATION:PT1H
X-Robots-Tag:noindex
X-PUBLISHED-TTL:PT1H
BEGIN:VTIMEZONE
TZID:America/Halifax
BEGIN:DAYLIGHT
TZOFFSETFROM:-0400
TZOFFSETTO:-0300
TZNAME:ADT
DTSTART:20200308T060000
END:DAYLIGHT
BEGIN:STANDARD
TZOFFSETFROM:-0300
TZOFFSETTO:-0400
TZNAME:AST
DTSTART:20201101T050000
END:STANDARD
END:VTIMEZONE
BEGIN:VEVENT
DTSTART;VALUE=DATE:20200116
DTEND;VALUE=DATE:20200117
DTSTAMP:20260424T110934
CREATED:20231025T124643Z
LAST-MODIFIED:20231025T124643Z
UID:1167-1579132800-1579219199@biogeoscapes.org
SUMMARY:OCB Ocean Nucleic Acids ‘omics Intercalibration and Standardization
DESCRIPTION:An OCB Ocean Nucleic Acids ‘omics Intercalibration and Standardization Workshop occurred in January of 2020. The workshop report  provides an overview of the current status of nucleic acid ‘omics approaches and proposes future activities towards community intercalibration and standardization efforts.
URL:https://biogeoscapes.org/event/ocb-ocean-nucleic-acids-omics-intercalibration-and-standardization/
CATEGORIES:Workshop
END:VEVENT
END:VCALENDAR