BEGIN:VCALENDAR
VERSION:2.0
PRODID:-//BioGeoSCAPES - ECPv5.16.1//NONSGML v1.0//EN
CALSCALE:GREGORIAN
METHOD:PUBLISH
X-WR-CALNAME:BioGeoSCAPES
X-ORIGINAL-URL:https://biogeoscapes.org
X-WR-CALDESC:Events for BioGeoSCAPES
REFRESH-INTERVAL;VALUE=DURATION:PT1H
X-Robots-Tag:noindex
X-PUBLISHED-TTL:PT1H
BEGIN:VTIMEZONE
TZID:America/Halifax
BEGIN:DAYLIGHT
TZOFFSETFROM:-0400
TZOFFSETTO:-0300
TZNAME:ADT
DTSTART:20240310T060000
END:DAYLIGHT
BEGIN:STANDARD
TZOFFSETFROM:-0300
TZOFFSETTO:-0400
TZNAME:AST
DTSTART:20241103T050000
END:STANDARD
TZID:Europe/Helsinki
BEGIN:DAYLIGHT
TZOFFSETFROM:+0200
TZOFFSETTO:+0300
TZNAME:EEST
DTSTART:20240331T010000
END:DAYLIGHT
BEGIN:STANDARD
TZOFFSETFROM:+0300
TZOFFSETTO:+0200
TZNAME:EET
DTSTART:20241027T010000
END:STANDARD
END:VTIMEZONE
BEGIN:VEVENT
DTSTART;VALUE=DATE:20240412
DTEND;VALUE=DATE:20240616
DTSTAMP:20260421T163146
CREATED:20240412T184857Z
LAST-MODIFIED:20240412T185042Z
UID:1529-1712880000-1718495999@biogeoscapes.org
SUMMARY:Apply now to be a BioGeoSCAPES Fellow!
DESCRIPTION:We are excited to announce the launch of a second BioGeoSCAPES Fellows cohort funded by the NSF AccelNet award. This program brings together an international\, interdisciplinary cohort of early career (postdocs and senior graduate students) researchers working in the areas of ocean metabolism\, biogeochemical cycling\, biological oceanography\, chemical oceanography\, and marine microbiology. We encourage applicants from both experimental and modeling backgrounds. Each Fellow will each receive a professional development award that can be used for travel related to laboratory exchanges\, courses\, workshops or conferences. Fellows will participate in monthly networking events for at least one year\, as well as an in-person workshop in summer or fall 2025. Postdoctoral researchers and senior graduate students from any nation who are working on BioGeoSCAPES-relevant research are eligible to apply.  \nApplication requirements:  \nFill out Google Form application and send abbreviated (2-page) CV to info@biogeoscapes.org. Applications are due June 15\, 2024. Applicants will be informed by August\, and cohort activities will begin September\, 2024. Applications will be evaluated based on the following criteria: \n\nApplicant’s readiness level to benefit from professional development activities of the Fellows Program\nQuality\, novelty\, and relevance (to BioGeoSCAPES mission) of applicant’s research activities to date  \nApplicant’s authentic experience and/or interest in interdisciplinary research endeavors\nApplicant’s leadership experience and/or potential to help advance the BioGeoSCAPES mission
URL:https://biogeoscapes.org/event/apply-now-to-be-a-biogeoscapes-fellow/
END:VEVENT
BEGIN:VEVENT
DTSTART;VALUE=DATE:20240417
DTEND;VALUE=DATE:20240419
DTSTAMP:20260421T163146
CREATED:20240412T181327Z
LAST-MODIFIED:20240412T194942Z
UID:1523-1713312000-1713484799@biogeoscapes.org
SUMMARY:EGU General Assembly: Session 3.1: Understanding ocean ecosystems\, biogeochemical cycles and their responses to climate change
DESCRIPTION:Join us in Vienna\, Austria\, April 17 and 18\, 2024\, for the EGU General Assembly\, Ocean Sciences Session 3.1: Understanding ocean ecosystems\, biogeochemical cycles and their responses to climate change. This session invites submissions\, from both observations and modeling efforts\, that address the impact of historical variability and climate change on net primary production\, biogeochemical cycling of nutrients and oxygen\, and the ocean carbon cycle\, including cascading effects for marine ecosystems to modulate biodiversity and ecosystem services. \nBioGeoSCAPES Fellow\, Meriel Bittner\, will present a poster\, “BioGeoSCAPES: Ocean metabolism and nutrient cycles on a changing planet”\, on Wed\, 17 Apr\, 16:15–18:00 (CEST)   Hall X4 | X4.27. 
URL:https://biogeoscapes.org/event/egu-general-assembly-session-3-1-understanding-ocean-ecosystems-biogeochemical-cycles-and-their-responses-to-climate-change/
LOCATION:Vienna\, Austria\, Vienna\, Austria
END:VEVENT
END:VCALENDAR