BEGIN:VCALENDAR
VERSION:2.0
PRODID:-//BioGeoSCAPES - ECPv5.16.1//NONSGML v1.0//EN
CALSCALE:GREGORIAN
METHOD:PUBLISH
X-ORIGINAL-URL:https://biogeoscapes.org
X-WR-CALDESC:Events for BioGeoSCAPES
REFRESH-INTERVAL;VALUE=DURATION:PT1H
X-Robots-Tag:noindex
X-PUBLISHED-TTL:PT1H
BEGIN:VTIMEZONE
TZID:America/Halifax
BEGIN:DAYLIGHT
TZOFFSETFROM:-0400
TZOFFSETTO:-0300
TZNAME:ADT
DTSTART:20230312T060000
END:DAYLIGHT
BEGIN:STANDARD
TZOFFSETFROM:-0300
TZOFFSETTO:-0400
TZNAME:AST
DTSTART:20231105T050000
END:STANDARD
END:VTIMEZONE
BEGIN:VEVENT
DTSTART;VALUE=DATE:20230501
DTEND;VALUE=DATE:20230503
DTSTAMP:20260424T013648
CREATED:20231025T121605Z
LAST-MODIFIED:20231025T121620Z
UID:1131-1682899200-1683071999@biogeoscapes.org
SUMMARY:2nd Canada National Workshop
DESCRIPTION:2nd Canada National Workshop: May 1-2\, Halifax\, organized by and Erin Bertrand and Maite Maldonado
URL:https://biogeoscapes.org/event/2nd-canada-national-workshop/
LOCATION:Halifax
CATEGORIES:Workshop
END:VEVENT
END:VCALENDAR