BEGIN:VCALENDAR
VERSION:2.0
PRODID:-//BioGeoSCAPES - ECPv5.16.1//NONSGML v1.0//EN
CALSCALE:GREGORIAN
METHOD:PUBLISH
X-ORIGINAL-URL:https://biogeoscapes.org
X-WR-CALDESC:Events for BioGeoSCAPES
REFRESH-INTERVAL;VALUE=DURATION:PT1H
X-Robots-Tag:noindex
X-PUBLISHED-TTL:PT1H
BEGIN:VTIMEZONE
TZID:America/Halifax
BEGIN:DAYLIGHT
TZOFFSETFROM:-0400
TZOFFSETTO:-0300
TZNAME:ADT
DTSTART:20230312T060000
END:DAYLIGHT
BEGIN:STANDARD
TZOFFSETFROM:-0300
TZOFFSETTO:-0400
TZNAME:AST
DTSTART:20231105T050000
END:STANDARD
END:VTIMEZONE
BEGIN:VEVENT
DTSTART;VALUE=DATE:20230401
DTEND;VALUE=DATE:20230402
DTSTAMP:20260424T053605
CREATED:20230309T213938Z
LAST-MODIFIED:20230309T213938Z
UID:853-1680307200-1680393599@biogeoscapes.org
SUMMARY:Virtual Panel/Webinar on International Data Management and Repository Collaborations for BioGeoSCAPES.
DESCRIPTION:Virtual Panel/Webinar on International Data Management and Repository Collaborations for BioGeoSCAPES. April 2023. More Information Soon.
URL:https://biogeoscapes.org/event/virtual-panel-webinar-on-international-data-management-and-repository-collaborations-for-biogeoscapes/
END:VEVENT
END:VCALENDAR