BEGIN:VCALENDAR
VERSION:2.0
PRODID:-//BioGeoSCAPES - ECPv5.16.1//NONSGML v1.0//EN
CALSCALE:GREGORIAN
METHOD:PUBLISH
X-WR-CALNAME:BioGeoSCAPES
X-ORIGINAL-URL:https://biogeoscapes.org
X-WR-CALDESC:Events for BioGeoSCAPES
REFRESH-INTERVAL;VALUE=DURATION:PT1H
X-Robots-Tag:noindex
X-PUBLISHED-TTL:PT1H
BEGIN:VTIMEZONE
TZID:America/Halifax
BEGIN:DAYLIGHT
TZOFFSETFROM:-0400
TZOFFSETTO:-0300
TZNAME:ADT
DTSTART:20230312T060000
END:DAYLIGHT
BEGIN:STANDARD
TZOFFSETFROM:-0300
TZOFFSETTO:-0400
TZNAME:AST
DTSTART:20231105T050000
END:STANDARD
END:VTIMEZONE
BEGIN:VEVENT
DTSTART;VALUE=DATE:20230123
DTEND;VALUE=DATE:20230124
DTSTAMP:20260424T111758
CREATED:20230309T214045Z
LAST-MODIFIED:20230309T214045Z
UID:860-1674432000-1674518399@biogeoscapes.org
SUMMARY:The Netherlands National workshop
DESCRIPTION:The Netherlands National workshop is occurring at the end of February\, organized by Rob Middag and Susanne Wilken.
URL:https://biogeoscapes.org/event/the-netherlands-national-workshop/
END:VEVENT
END:VCALENDAR